BEGIN:VCALENDAR
VERSION:2.0
PRODID:-//Guaranty Bank - ECPv6.15.20//NONSGML v1.0//EN
CALSCALE:GREGORIAN
METHOD:PUBLISH
X-ORIGINAL-URL:https://gbtonline.com
X-WR-CALDESC:Events for Guaranty Bank
REFRESH-INTERVAL;VALUE=DURATION:PT1H
X-Robots-Tag:noindex
X-PUBLISHED-TTL:PT1H
BEGIN:VTIMEZONE
TZID:UTC
BEGIN:STANDARD
TZOFFSETFROM:+0000
TZOFFSETTO:+0000
TZNAME:UTC
DTSTART:20220101T000000
END:STANDARD
END:VTIMEZONE
BEGIN:VEVENT
DTSTART;TZID=UTC:20230306T180000
DTEND;TZID=UTC:20230322T193000
DTSTAMP:20260422T103329
CREATED:20221121T002328Z
LAST-MODIFIED:20230228T145830Z
UID:88796-1678125600-1679513400@gbtonline.com
SUMMARY:Small Business Development Class (Virtual) March 6th - March 22nd
DESCRIPTION:A three (3) week standardized curriculum program intended to be an introductory/exploratory course for participants who are interested in learning business concept development\, business plan development\, marketing/promotion\, accounting/bookkeeping\, business technology\, incorporation and registration\, regulatory compliance\, organization and management\, legal protections\, and financial resources.  This class meets twice per week for three (3) weeks. \nMeeting Dates: \n\nMarch 6th\nMarch 8th\nMarch 13th\nMarch 15th\nMarch 20th\nMarch 22nd\n\nWho Should Attend: \nSmall business owners and potential business owners who are looking to start or expand a business. Completion of this class makes it possible for small business owners to apply for Guaranty Bank’s SEED Loan. Applicants must meet lending criteria. \nSmall Business Workshop Flyer 
URL:https://gbtonline.com/event/small-business-development-class-virtual-march-6th-22nd/
LOCATION:ONLINE
END:VEVENT
END:VCALENDAR